BEGIN:VCALENDAR
VERSION:2.0
PRODID:-//Tukios.com/
BEGIN:VEVENT
UID:2a742fc8-6267-49a6-b3ca-898f06f7ab05@www.hogenkampfh.com
DTSTAMP:20260420T000852Z
DTSTART:20260425T140000Z
DTEND:20260425T160000Z
SUMMARY:Visitation
DESCRIPTION:
URL:https://www.hogenkampfh.com/obituaries/thelma-thieman
LOCATION: 221 East Main Street  St. Henry OH 45883
GEO:40.4181258;-84.6380207
END:VEVENT
END:VCALENDAR