BEGIN:VCALENDAR
VERSION:2.0
PRODID:-//Tukios.com/
BEGIN:VEVENT
UID:77fcb556-73ef-4fc5-a6db-f81eb9c2fdb2@www.hogenkampfh.com
DTSTAMP:20260420T000948Z
DTSTART:20260425T163000Z
DTEND:20260425T173000Z
SUMMARY:Mass
DESCRIPTION:
URL:https://www.hogenkampfh.com/obituaries/thelma-thieman
LOCATION:St. Henry Catholic Church 272 East Main Street  Saint Henry OH 
	45883
GEO:40.417319;-84.63746
END:VEVENT
END:VCALENDAR