BEGIN:VCALENDAR
VERSION:2.0
PRODID:-//Tukios.com/
BEGIN:VEVENT
UID:2352e408-069e-40ab-9cb8-0291104e5d47@www.hogenkampfh.com
DTSTAMP:20260422T184302Z
DTSTART:20260424T130000Z
DTEND:20260424T140000Z
SUMMARY:Visitation
DESCRIPTION:
URL:https://www.hogenkampfh.com/obituaries/robert-bosko
LOCATION:Holy Redeemer Catholic Church 120 S. Eastmoor Drive  New Bremen 
	OH 45869
GEO:40.4343134;-84.3729745
END:VEVENT
END:VCALENDAR