BEGIN:VCALENDAR
VERSION:2.0
PRODID:-//Tukios.com/
BEGIN:VEVENT
UID:5e11fd7c-59e6-4df9-bea7-761114c58827@www.hogenkampfh.com
DTSTAMP:20260422T184638Z
DTSTART:20260424T143000Z
DTEND:20260424T153000Z
SUMMARY:Mass
DESCRIPTION:
URL:https://www.hogenkampfh.com/obituaries/robert-bosko
LOCATION:Holy Redeemer Catholic Church 120 S. Eastmoor Drive  New Bremen 
	OH 45869
GEO:40.4343134;-84.3729745
END:VEVENT
END:VCALENDAR