BEGIN:VCALENDAR
VERSION:2.0
PRODID:-//Tukios.com/
BEGIN:VEVENT
UID:37197364-50e7-4888-b2fc-b1ac409bec99@www.hogenkampfh.com
DTSTAMP:20260420T042140Z
DTSTART:20260422T143000Z
DTEND:20260422T153000Z
SUMMARY:Mass
DESCRIPTION:
URL:https://www.hogenkampfh.com/obituaries/david-ahlers
LOCATION:St. Henry Catholic Church 272 East Main Street  Saint Henry OH 
	45883
GEO:40.417319;-84.63746
END:VEVENT
END:VCALENDAR