BEGIN:VCALENDAR
VERSION:2.0
PRODID:-//Tukios.com/
BEGIN:VEVENT
UID:3852451f-9d5c-4ed1-9ba1-51e51a8fe4b8@www.hogenkampfh.com
DTSTAMP:20260420T042058Z
DTSTART:20260422T130000Z
DTEND:20260422T140000Z
SUMMARY:Visitation
DESCRIPTION:
URL:https://www.hogenkampfh.com/obituaries/david-ahlers
LOCATION: 221 East Main Street  St. Henry OH 45883
GEO:40.4181258;-84.6380207
END:VEVENT
END:VCALENDAR