BEGIN:VCALENDAR
VERSION:2.0
PRODID:-//Tukios.com/
BEGIN:VEVENT
UID:de4cb218-5d59-46e5-9dc0-7c22fd7dfbdd@www.hogenkampfh.com
DTSTAMP:20260420T042057Z
DTSTART:20260421T190000Z
DTEND:20260421T230000Z
SUMMARY:Visitation
DESCRIPTION:
URL:https://www.hogenkampfh.com/obituaries/david-ahlers
LOCATION: 221 East Main Street  St. Henry OH 45883
GEO:40.4181258;-84.6380207
END:VEVENT
END:VCALENDAR