BEGIN:VCALENDAR
VERSION:2.0
PRODID:-//Tukios.com/
BEGIN:VEVENT
UID:051cd450-fb4a-4b09-a7c9-1c420a6b5da5@www.hogenkampfh.com
DTSTAMP:20260425T215019Z
DTSTART:20260429T143000Z
DTEND:20260429T153000Z
SUMMARY:Mass
DESCRIPTION:
URL:https://www.hogenkampfh.com/obituaries/carl-homan
LOCATION: 102 West Main Street  Coldwater OH 45828
GEO:40.4799621;-84.6288916
END:VEVENT
END:VCALENDAR