BEGIN:VCALENDAR
VERSION:2.0
PRODID:-//Tukios.com/
BEGIN:VEVENT
UID:fe25d1be-7c75-4617-8eaa-6f3f55fd087b@www.hogenkampfh.com
DTSTAMP:20260425T215258Z
DTSTART:20260429T130000Z
DTEND:20260429T140000Z
SUMMARY:Visitation
DESCRIPTION:
URL:https://www.hogenkampfh.com/obituaries/carl-homan
LOCATION: 715 East Main Street  Coldwater OH 45828
GEO:40.4795136;-84.6201381
END:VEVENT
END:VCALENDAR