BEGIN:VCALENDAR
VERSION:2.0
PRODID:-//Tukios.com/
BEGIN:VEVENT
UID:816c6c76-d42f-42a8-ac56-ee2366e09f3c@www.hogenkampfh.com
DTSTAMP:20260425T215437Z
DTSTART:20260428T200000Z
DTEND:20260428T230000Z
SUMMARY:Visitation
DESCRIPTION:
URL:https://www.hogenkampfh.com/obituaries/carl-homan
LOCATION: 715 East Main Street  Coldwater OH 45828
GEO:40.4795136;-84.6201381
END:VEVENT
END:VCALENDAR